BEGIN:VCALENDAR
VERSION:2.0
PRODID:-//wp-events-plugin.com//7.2.3.1//EN
BEGIN:VEVENT
UID:1@sarpedonqualitylab.us
DTSTART;VALUE=DATE:20250509
DTEND;VALUE=DATE:20250511
DTSTAMP:20251010T190859Z
URL:https://sarpedonqualitylab.us/events/sqlsaturday-new-york-city/
SUMMARY:SQLSaturday New York City
DESCRIPTION:Event website: https://sqlsaturday.com/2025-05-10-sqlsaturday11
 05/\n\n 	PreCon: Practical Performance Monitoring &amp\; Troubleshooting S
 QL Server\n 	Session: Approaching security for SQL Server and Azure SQL st
 rategically\n
ATTACH;FMTTYPE=image/jpeg:https://sarpedonqualitylab.us/wp-content/uploads
 /2025/09/2025SQLSaturdayNYC-2.jpg
END:VEVENT
END:VCALENDAR