BEGIN:VCALENDAR
VERSION:2.0
PRODID:-//wp-events-plugin.com//7.2.3.1//EN
BEGIN:VEVENT
UID:2@sarpedonqualitylab.us
DTSTART;VALUE=DATE:20250503
DTEND;VALUE=DATE:20250504
DTSTAMP:20251010T185729Z
URL:https://sarpedonqualitylab.us/events/sqlsaturday-new-york-city-2nd-eve
 nt/
SUMMARY:SQL Saturday Orange County
DESCRIPTION:Event website: https://sqlsaturday.com/2025-05-03-sqlsaturday11
 15\n\n 	Session: Practical Insights on SQL Server Consolidation and Migrat
 ion\n
ATTACH;FMTTYPE=image/jpeg:https://sarpedonqualitylab.us/wp-content/uploads
 /2025/09/2025_SQLSaturdayOrangeCounty_AndreasWolter.jpg
END:VEVENT
END:VCALENDAR