BEGIN:VCALENDAR
VERSION:2.0
PRODID:-//wp-events-plugin.com//7.2.3.1//EN
BEGIN:VEVENT
UID:11@sarpedonqualitylab.us
DTSTART;VALUE=DATE:20260422
DTEND;VALUE=DATE:20260426
DTSTAMP:20260326T233028Z
URL:https://sarpedonqualitylab.us/events/sqlbits2026/
SUMMARY:SQLBits 2026
DESCRIPTION:\n 	\nSession: Contained Availability Groups – Best Practices
  from Real-World Projects\n\n 	Event website: https://sqlbits.com/sessions
 /event2026/Contained_Availability_Groups__Best_Practices_from_Real-World_P
 rojects\n\n&nbsp\;\n\nAbstract:\n\nSince their introduction in SQL Server 
 2012\, Always On Availability Groups have become the preferred high availa
 bility technology for many DBA’s. SQL Server 2022 introduced Contained A
 vailability Groups\, to provide even greater flexibility and simplified ma
 nagement\, and SQL Server 2025 introduces even further improvements.\n\nAn
 dreas Wolter\, a former senior member of the Microsoft SQL team will provi
 de a comprehensive overview of the benefits and key considerations of Cont
 ained Availability Groups. You'll gain insights from real-world projects t
 o help you maximize their advantages and potential challenges. We will dis
 cuss availability and manageability aspects\, impacts on deployment workfl
 ows and security for your high availability architecture and learn valuabl
 e best practices. Join this session to learn about the key benefits and co
 nsiderations of Contained Availability Groups and why they make your life 
 as a DBA or database application vendor easier.\n\n&nbsp\;
ATTACH;FMTTYPE=image/jpeg:https://sarpedonqualitylab.us/wp-content/uploads
 /2026/03/Logo-Circle-SQLBits-Cartoon-2026.png
LOCATION:Wales\, UK\, \, United Kingdom
X-APPLE-STRUCTURED-LOCATION;VALUE=URI;X-ADDRESS=\, United Kingdom;X-APPLE-R
 ADIUS=100;X-TITLE=Wales\, UK:geo:0,0
END:VEVENT
END:VCALENDAR