BEGIN:VCALENDAR
VERSION:2.0
PRODID:-//wp-events-plugin.com//7.2.3.1//EN
BEGIN:VEVENT
UID:3@sarpedonqualitylab.us
DTSTART;VALUE=DATE:20251108
DTEND;VALUE=DATE:20251109
DTSTAMP:20251013T062658Z
URL:https://sarpedonqualitylab.us/events/sql-saturday-houston-2025/
SUMMARY:SQL Saturday Houston 2025
DESCRIPTION:Event website: https://sqlsaturday.com/2025-11-08-sqlsaturday11
 20/\n\nSession: De-mystifying SQL Security: Open Discussion and Real-World
  Insights
ATTACH;FMTTYPE=image/jpeg:https://sarpedonqualitylab.us/wp-content/uploads
 /2025/09/PASSSQLSaturdayLogo.png
END:VEVENT
END:VCALENDAR