BEGIN:VCALENDAR
VERSION:2.0
PRODID:-//wp-events-plugin.com//7.2.3.1//EN
BEGIN:VEVENT
UID:10@sarpedonqualitylab.us
DTSTART;VALUE=DATE:20250915
DTEND;VALUE=DATE:20250917
DTSTAMP:20251010T193447Z
URL:https://sarpedonqualitylab.us/events/pass-summit-on-tour-dallas-2025/
SUMMARY:PASS Summit On Tour Dallas 2025
DESCRIPTION:\n 	Event website: https://passdatacommunitysummit.com/pass-sum
 mit-on-tour/dallas/\n 	Session: Quickstart into Performance Monitoring &am
 p\; Troubleshooting for SQL\n
ATTACH;FMTTYPE=image/jpeg:https://sarpedonqualitylab.us/wp-content/uploads
 /2025/10/2025PASSOnTourDallas.jpg
END:VEVENT
END:VCALENDAR