BEGIN:VCALENDAR
VERSION:2.0
PRODID:-//wp-events-plugin.com//7.2.3.1//EN
BEGIN:VEVENT
UID:14@sarpedonqualitylab.us
DTSTART;VALUE=DATE:20260508
DTEND;VALUE=DATE:20260509
DTSTAMP:20260416T231949Z
URL:https://sarpedonqualitylab.us/events/pass-summit-east-chicago/
SUMMARY:PASS Summit East (Chicago)
DESCRIPTION:\n 	\nSession: De-mystifying SQL Server Security: What Actually
  Matters in Real Environments\n\n 	Event website: https://passdatacommunit
 ysummit.com/east/\n
ATTACH;FMTTYPE=image/jpeg:https://sarpedonqualitylab.us/wp-content/uploads
 /2026/03/PASS-EAST_logo-date_dark_500px.png
LOCATION:Chicago\, \, 
X-APPLE-STRUCTURED-LOCATION;VALUE=URI;X-ADDRESS=\, ;X-APPLE-RADIUS=100;X-TI
 TLE=Chicago:geo:0,0
END:VEVENT
END:VCALENDAR