BEGIN:VCALENDAR
VERSION:2.0
PRODID:-//wp-events-plugin.com//7.2.3.1//EN
BEGIN:VEVENT
UID:9@sarpedonqualitylab.us
DTSTART;VALUE=DATE:20251117
DTEND;VALUE=DATE:20251122
DTSTAMP:20251010T192932Z
URL:https://sarpedonqualitylab.us/events/pass-data-community-summit-2025/
SUMMARY:PASS Data Community Summit 2025
DESCRIPTION:\n 	Event website: https://passdatacommunitysummit.com/\n 	Sess
 ion: Enhancing Data Security for SQL Server and Azure SQL: A Strategic App
 roach\n
ATTACH;FMTTYPE=image/jpeg:https://sarpedonqualitylab.us/wp-content/uploads
 /2025/10/PASS2025-Logo-Dark-Date.png
END:VEVENT
END:VCALENDAR