BEGIN:VCALENDAR
VERSION:2.0
PRODID:-//wp-events-plugin.com//7.2.3.1//EN
BEGIN:VEVENT
UID:12@sarpedonqualitylab.us
DTSTART:20260325T000000Z
DTEND:20260325T000000Z
DTSTAMP:20260326T233243Z
URL:https://sarpedonqualitylab.us/events/isaca-phoenix-chapter-meeting-032
 026/
SUMMARY:ISACA Phoenix Chapter March 2026 Meeting
DESCRIPTION:\n 	\nSession: Security and compliance Auditing for relational 
 databases\, example Microsoft SQL Server\n\n 	Event website: https://engag
 e.isaca.org/phoenixchapter/events/calendar\n\n&nbsp\;\n\nAbstract\n\nThis 
 session will give an overview on how to conduct a security-assessment of a
  database system\, using the example of Microsoft SQL Server. The speaker\
 , Andreas Wolter\, is a former Senior Member of the Microsoft Data Platfor
 m Security Product Group and brings over 25 years of consulting experience
  in Microsoft SQL Server security. The session offers a hands-on introduct
 ion to common auditing techniques and highlights frequently reviewed secur
 ity control settings that are relevant to various compliance standards.
ATTACH;FMTTYPE=image/jpeg:https://sarpedonqualitylab.us/wp-content/uploads
 /2026/03/4cf64dd2-2f75-4a45-a307-259e2bef3030_ISACA_logo_Phoenix_RGB1.png
LOCATION:Phoenix\, \, United States
X-APPLE-STRUCTURED-LOCATION;VALUE=URI;X-ADDRESS=\, United States;X-APPLE-RA
 DIUS=100;X-TITLE=Phoenix:geo:0,0
END:VEVENT
END:VCALENDAR